BEGIN:VCALENDAR
VERSION:2.0
PRODID:-//Chattahoochee Fall Line Conservation Partnership - ECPv6.15.20//NONSGML v1.0//EN
CALSCALE:GREGORIAN
METHOD:PUBLISH
X-WR-CALNAME:Chattahoochee Fall Line Conservation Partnership
X-ORIGINAL-URL:https://cflcp.org
X-WR-CALDESC:Events for Chattahoochee Fall Line Conservation Partnership
REFRESH-INTERVAL;VALUE=DURATION:PT1H
X-Robots-Tag:noindex
X-PUBLISHED-TTL:PT1H
BEGIN:VTIMEZONE
TZID:America/New_York
BEGIN:DAYLIGHT
TZOFFSETFROM:-0500
TZOFFSETTO:-0400
TZNAME:EDT
DTSTART:20250309T070000
END:DAYLIGHT
BEGIN:STANDARD
TZOFFSETFROM:-0400
TZOFFSETTO:-0500
TZNAME:EST
DTSTART:20251102T060000
END:STANDARD
BEGIN:DAYLIGHT
TZOFFSETFROM:-0500
TZOFFSETTO:-0400
TZNAME:EDT
DTSTART:20260308T070000
END:DAYLIGHT
BEGIN:STANDARD
TZOFFSETFROM:-0400
TZOFFSETTO:-0500
TZNAME:EST
DTSTART:20261101T060000
END:STANDARD
BEGIN:DAYLIGHT
TZOFFSETFROM:-0500
TZOFFSETTO:-0400
TZNAME:EDT
DTSTART:20270314T070000
END:DAYLIGHT
BEGIN:STANDARD
TZOFFSETFROM:-0400
TZOFFSETTO:-0500
TZNAME:EST
DTSTART:20271107T060000
END:STANDARD
END:VTIMEZONE
BEGIN:VEVENT
DTSTART;TZID=America/New_York:20260606T080000
DTEND;TZID=America/New_York:20260606T170000
DTSTAMP:20260418T003223
CREATED:20260127T061926Z
LAST-MODIFIED:20260127T062812Z
UID:2678-1780732800-1780765200@cflcp.org
SUMMARY:North Georgia Prescribed Fire Meeting - June 6\, 2026
DESCRIPTION:Save the date! The North Georgia Prescribed Fire Meeting will be held Saturday June 6th \, 2026 at Chattahoochee Technical College in Jasper\, GA. \nDetails\, including agenda and registration will be posted  at www.garxfire.com \n 
URL:https://cflcp.org/event/north-georgia-prescribed-fire-meeting-june-6-2026/
LOCATION:Chattahoochee Technical College\, Jasper\, GA\, United States
CATEGORIES:Meeting
ATTACH;FMTTYPE=image/jpeg:https://cflcp.org/wp-content/uploads/2026/01/2026-North-Georgia-Prescribed-Fire-Meeting_Save-the-Date_June-6th.jpg
END:VEVENT
BEGIN:VEVENT
DTSTART;TZID=America/New_York:20260627T080000
DTEND;TZID=America/New_York:20260627T170000
DTSTAMP:20260418T003223
CREATED:20260127T062316Z
LAST-MODIFIED:20260127T062316Z
UID:2683-1782547200-1782579600@cflcp.org
SUMMARY:Georgia Prescribed Burn Manager Certification Course - June 2026
DESCRIPTION:Georgia Prescribed Burn Manager Certification Course \nJune 9 -10\, 2026\nAlbany\, GA \nhttps://www.swgapba.org/
URL:https://cflcp.org/event/georgia-prescribed-burn-manager-certification-course-june-2026/
LOCATION:GA
END:VEVENT
BEGIN:VEVENT
DTSTART;TZID=America/New_York:20260721T080000
DTEND;TZID=America/New_York:20260722T170000
DTSTAMP:20260418T003223
CREATED:20260227T164958Z
LAST-MODIFIED:20260302T170501Z
UID:2712-1784620800-1784739600@cflcp.org
SUMMARY:2026 Disaster Resilience Across the Chattahoochee Valley Conference
DESCRIPTION:2026 Disaster Resilience Across the Chattahoochee Valley Conference \nJuly 21–22\, 2026 | Columbus Convention & Trade Center | Columbus\, GA \nIs Your Community Prepared for the Unexpected? \nLink to Conference Site: Click HERE \nThe 2026 Disaster Resilience Across the Chattahoochee Valley Conference will be July 21–22\, 2026\, at the Columbus Convention & Trade Center in Columbus\, Georgia. This regional conference brings together emergency management professionals\, public officials\, infrastructure partners\, nonprofit leaders\, and community stakeholders to strengthen disaster preparedness\, response coordination\, and long-term recovery across the Chattahoochee Valley. \nThrough expert-led sessions and collaborative discussions\, participants will explore strategies to address critical infrastructure gaps\, enhance cross-sector communication\, and build more resilient communities. Registration opens April 27\, 2026. \nWhat to Expect \nExpert-Led Sessions: Gain insights from leaders in disaster resilience\, emergency management\, public safety\, and infrastructure planning. Practical Tools & Best Practices: Learn strategies your community can implement for improved preparedness and response. Collaborative Networking: Connect with peers and partners to build meaningful regional collaborations. \nFeatured Topics \n\nEmergency Preparedness & Response Coordination\nMutual Aid Agreements & Incident Command\nWater Resource Management & Energy Microgrids\nDebris & Mass Casualty Management\nCommunication Strategies & Cybersecurity Threats\nActive Threats\, Terrorism & Emerging Risks\n\nWho Should Attend\nThis event is ideal for: \n• Emergency management personnel• Local\, state\, and federal government leaders• First responders and public safety professionals• Utilities and infrastructure partners• School administrators and community partners \nWhether you’re on the front lines of planning or building resilient communities\, you’ll walk away with actionable insights and stronger regional connections. \nEvent Details \nDates: Tuesday\, July 21 – Wednesday\, July 22\, 2026Location: Columbus Convention & Trade Center801 Front Avenue\, Columbus\, GA 31901 \nRegistration:Registration opens April 27\, 2026 — stay tuned for details and early rates! https://cviog.uga.edu/services/community-planning-resilience/gaps-conference.html \nGet Involved\nInterested in elevating your organization’s visibility?\nExhibitor and sponsorship opportunities are available — connect with professionals shaping resilience across the region.\nContact: Dr. Ileeia Smith at Ileeia.Smith@uga.edu
URL:https://cflcp.org/event/2026-disaster-resilience-across-the-chattahoochee-valley-conference/
LOCATION:Columbus Convention & Trade Center\, 801 Front Avenue\, Columbus\, GA\, 31901\, United States
CATEGORIES:Conference
ATTACH;FMTTYPE=image/jpeg:https://cflcp.org/wp-content/uploads/2026/02/GAPS_LKC-edit_Page_1-1.jpg
END:VEVENT
END:VCALENDAR